BEGIN:VCALENDAR
VERSION:2.0
PRODID:-//Agile - ECPv6.15.11//NONSGML v1.0//EN
CALSCALE:GREGORIAN
METHOD:PUBLISH
X-ORIGINAL-URL:https://a2zagility.com
X-WR-CALDESC:Events for Agile
REFRESH-INTERVAL;VALUE=DURATION:PT1H
X-Robots-Tag:noindex
X-PUBLISHED-TTL:PT1H
BEGIN:VTIMEZONE
TZID:America/Los_Angeles
BEGIN:DAYLIGHT
TZOFFSETFROM:-0800
TZOFFSETTO:-0700
TZNAME:PDT
DTSTART:20200308T100000
END:DAYLIGHT
BEGIN:STANDARD
TZOFFSETFROM:-0700
TZOFFSETTO:-0800
TZNAME:PST
DTSTART:20201101T090000
END:STANDARD
BEGIN:DAYLIGHT
TZOFFSETFROM:-0800
TZOFFSETTO:-0700
TZNAME:PDT
DTSTART:20210314T100000
END:DAYLIGHT
BEGIN:STANDARD
TZOFFSETFROM:-0700
TZOFFSETTO:-0800
TZNAME:PST
DTSTART:20211107T090000
END:STANDARD
BEGIN:DAYLIGHT
TZOFFSETFROM:-0800
TZOFFSETTO:-0700
TZNAME:PDT
DTSTART:20220313T100000
END:DAYLIGHT
BEGIN:STANDARD
TZOFFSETFROM:-0700
TZOFFSETTO:-0800
TZNAME:PST
DTSTART:20221106T090000
END:STANDARD
END:VTIMEZONE
BEGIN:VEVENT
DTSTART;TZID=America/Los_Angeles:20210819T083000
DTEND;TZID=America/Los_Angeles:20210819T100000
DTSTAMP:20260424T110626
CREATED:20210831T210538Z
LAST-MODIFIED:20210831T210538Z
UID:414-1629361800-1629367200@a2zagility.com
SUMMARY:Как научиться эффективно работать с трудными командами?
DESCRIPTION:Каждый из нас сталкивался в своей профессиональной практике с трудными командами – в роли менеджера\, коуча или члена команды. В любом из этих вариантов\, перед нами стоит непростая задача: изменить ситуацию и добиться\, чтобы команда стала успешной\, а члены этой команды приобрели мотивацию и необходимые навыки. Казалось бы\, все просто: поставить задачу\, обучить\, похвалить\, научить работать вместе. На самом деле\, все гораздо сложнее. Требуются знания\, психологическая подготовка\, эмоциональная закалка\, терпение и изобретательность. \nНа этой сессии мы рассмотрим семь причин\, которые приводят к возникновению трудных команд\, и семь приемов\, которые вы сможете применить\, в зависимости от вашей роли руководителя\, коуча или члена команды\, чтобы сделать эти команды успешными. Мы рассмотрим приципы скрама\, масштабированных agile подходов\, углубимся в основы психологии и профессионального коучинга. \nНе удивляйтесь: семейная терапия применима к скрам-командам\, а планирование спринта сопоставимо с планированием деятельности любой команды – в спорте\, семье или в группе близких друзей. Вы приобретете навыки\, которые помогут вам преодолеть удручающий опыт работы с трудными командами и позиционируют вас как признанного лидера в новой\, преображенной\, организации. \nО нашем докладчике:\nМария Брейтер родилась в Москве\, окончила отделение структурной и прикладной лингвистики МГУ и после окончания аспирантуры была приглашена в роли научного сотрудника в Стэнфордский университет. После Стэнфорда Мария уже 20 лет руководит командами\, занимающимися разработкой программного обеспечения как менеджер\, руководитель техническими проектами\, скрам мастер и agile коуч. Среди продуктов\, созданных ее командами\, онлайн банк Маркус компании Голдман Сакс\, инновационные финтек стартапы\, страховые продукты Юнайтед Хелс Груп\, диспетчерские программы авиакомпании Southwest Airlines\, обучающие программы компании Каплан Тест Преп\, программы распространения новостей Пи Ар Ньюзуайер и многие другие. В дополнение к основной работе agile коуча в Голдман Сакс Мария преподает Agile Project Management в Нью-Йоркском университете и ведет свой блог http://www.agileleantransformation.com.\nВ свободное от работы время Мария живет по системе постановки целей OKR и воспитывает двоих сыновей с помощью системы канбан.
URL:https://a2zagility.com/event/%d0%ba%d0%b0%d0%ba-%d0%bd%d0%b0%d1%83%d1%87%d0%b8%d1%82%d1%8c%d1%81%d1%8f-%d1%8d%d1%84%d1%84%d0%b5%d0%ba%d1%82%d0%b8%d0%b2%d0%bd%d0%be-%d1%80%d0%b0%d0%b1%d0%be%d1%82%d0%b0%d1%82%d1%8c-%d1%81-%d1%82/
CATEGORIES:Мероприятия сообщества
END:VEVENT
BEGIN:VEVENT
DTSTART;TZID=America/Los_Angeles:20210121T070000
DTEND;TZID=America/Los_Angeles:20210121T080000
DTSTAMP:20260424T110626
CREATED:20201213T130741Z
LAST-MODIFIED:20201213T130816Z
UID:316-1611212400-1611216000@a2zagility.com
SUMMARY:Голос Скрам Альянса – Начнем с начала
DESCRIPTION:Запуск новой группы – повестка дня:\nПредставление команды организаторов\nОбсуждение задач группы и других орг. вопросов\nОбсуждение названия и голосование\nLeanCoffee – вопросы и ответы\nПредставление первого выступления (предположительно 18 Февраля)
URL:https://a2zagility.com/event/%d0%b3%d0%be%d0%bb%d0%be%d1%81-%d1%81%d0%ba%d1%80%d0%b0%d0%bc-%d0%b0%d0%bb%d1%8c%d1%8f%d0%bd%d1%81%d0%b0-%d0%bd%d0%b0%d1%87%d0%bd%d0%b5%d0%bc-%d1%81-%d0%bd%d0%b0%d1%87%d0%b0%d0%bb%d0%b0/
CATEGORIES:Мероприятия сообщества
END:VEVENT
END:VCALENDAR